BEGIN:VCALENDAR
VERSION:2.0
PRODID:-//Plone.org//NONSGML plone.app.event//EN
X-WR-TIMEZONE:Europe/Madrid
BEGIN:VEVENT
SUMMARY:Entrevista - 8TV
DTSTART;TZID=Europe/Madrid;VALUE=DATE-TIME:20211210T162000
DTEND;TZID=Europe/Madrid;VALUE=DATE-TIME:20211210T172000
DTSTAMP;VALUE=DATE-TIME:20260424T054729Z
UID:f44cd85fd0c0d9a1448f2c4918d9a6f4
CREATED;VALUE=DATE-TIME:20211210T000000Z
CATEGORIES:Agenda institucional
LOCATION:Font del Drac
URL:https://www.canetdemar.cat/document.php?id=22234
END:VEVENT
END:VCALENDAR