BEGIN:VCALENDAR
VERSION:2.0
PRODID:-//Plone.org//NONSGML plone.app.event//EN
X-WR-TIMEZONE:Europe/Madrid
BEGIN:VEVENT
SUMMARY:Coordinació Policia Local per Manifestació
DTSTART;TZID=Europe/Madrid;VALUE=DATE-TIME:20211210T154500
DTEND;TZID=Europe/Madrid;VALUE=DATE-TIME:20211210T164500
DTSTAMP;VALUE=DATE-TIME:20260423T105308Z
UID:0667f32f2edfb03f62049a8165ebbc67
CREATED;VALUE=DATE-TIME:20211210T000000Z
CATEGORIES:Agenda institucional
LOCATION:Font del Drac
URL:https://www.canetdemar.cat/document.php?id=22233
END:VEVENT
END:VCALENDAR