BEGIN:VCALENDAR
VERSION:2.0
PRODID:-//Plone.org//NONSGML plone.app.event//EN
X-WR-TIMEZONE:Europe/Madrid
BEGIN:VEVENT
SUMMARY:Entrevista - Tot es mou (TV3)
DTSTART;TZID=Europe/Madrid;VALUE=DATE-TIME:20211209T184500
DTEND;TZID=Europe/Madrid;VALUE=DATE-TIME:20211209T194500
DTSTAMP;VALUE=DATE-TIME:20260423T105500Z
UID:a9853d91e9f6bb1d73e4565e2ad93f33
CREATED;VALUE=DATE-TIME:20211209T000000Z
CATEGORIES:Agenda institucional
LOCATION:Sala de plens
URL:https://www.canetdemar.cat/document.php?id=22231
END:VEVENT
END:VCALENDAR