BEGIN:VCALENDAR
VERSION:2.0
PRODID:-//Plone.org//NONSGML plone.app.event//EN
X-WR-TIMEZONE:Europe/Madrid
BEGIN:VEVENT
SUMMARY:Reunió sobre el pressupost de l'any Domènech
DTSTART;TZID=Europe/Madrid;VALUE=DATE-TIME:20211203T110000
DTEND;TZID=Europe/Madrid;VALUE=DATE-TIME:20211203T120000
DTSTAMP;VALUE=DATE-TIME:20260424T024140Z
UID:c433869d82a3a83f6b013aa2f0e549c3
CREATED;VALUE=DATE-TIME:20211203T000000Z
CATEGORIES:Agenda institucional
URL:https://www.canetdemar.cat/document.php?id=22228
END:VEVENT
END:VCALENDAR