BEGIN:VCALENDAR
VERSION:2.0
PRODID:-//Plone.org//NONSGML plone.app.event//EN
X-WR-TIMEZONE:Europe/Madrid
BEGIN:VEVENT
SUMMARY:Reunió sobre la Fundació Els Garrofers
DTSTART;TZID=Europe/Madrid;VALUE=DATE-TIME:20211203T100000
DTEND;TZID=Europe/Madrid;VALUE=DATE-TIME:20211203T110000
DTSTAMP;VALUE=DATE-TIME:20260425T210006Z
UID:0b00feac41db6bf29c70f5f72741375d
CREATED;VALUE=DATE-TIME:20211203T000000Z
CATEGORIES:Agenda institucional
URL:https://www.canetdemar.cat/document.php?id=22222
END:VEVENT
END:VCALENDAR