BEGIN:VCALENDAR
VERSION:2.0
PRODID:-//Plone.org//NONSGML plone.app.event//EN
X-WR-TIMEZONE:Europe/Madrid
BEGIN:VEVENT
SUMMARY:Reunió de coordinació amb l'àrea de Jardineria
DTSTART;TZID=Europe/Madrid;VALUE=DATE-TIME:20211229T130000
DTEND;TZID=Europe/Madrid;VALUE=DATE-TIME:20211229T140000
DTSTAMP;VALUE=DATE-TIME:20260423T190304Z
UID:f8928c9cf50a3aacd345ab03e75ebc4c
CREATED;VALUE=DATE-TIME:20211229T000000Z
CATEGORIES:Agenda institucional
URL:https://www.canetdemar.cat/document.php?id=22210
END:VEVENT
END:VCALENDAR