BEGIN:VCALENDAR
VERSION:2.0
PRODID:-//Plone.org//NONSGML plone.app.event//EN
X-WR-TIMEZONE:Europe/Madrid
BEGIN:VEVENT
SUMMARY:Reunió de coordinació amb l'àrea de Jardineria
DTSTART;TZID=Europe/Madrid;VALUE=DATE-TIME:20211215T130000
DTEND;TZID=Europe/Madrid;VALUE=DATE-TIME:20211215T140000
DTSTAMP;VALUE=DATE-TIME:20260424T130756Z
UID:467464fe989e450b476758c2b5e49de8
CREATED;VALUE=DATE-TIME:20211215T000000Z
CATEGORIES:Agenda institucional
URL:https://www.canetdemar.cat/document.php?id=22208
END:VEVENT
END:VCALENDAR