BEGIN:VCALENDAR
VERSION:2.0
PRODID:-//Plone.org//NONSGML plone.app.event//EN
X-WR-TIMEZONE:Europe/Madrid
BEGIN:VEVENT
SUMMARY:Reunió amb les àrees de Secretaria i Contractació
DTSTART;TZID=Europe/Madrid;VALUE=DATE-TIME:20211201T113500
DTEND;TZID=Europe/Madrid;VALUE=DATE-TIME:20211201T123500
DTSTAMP;VALUE=DATE-TIME:20260424T144437Z
UID:053deedf0428e02a24b33b1e6d9a496e
CREATED;VALUE=DATE-TIME:20211201T000000Z
CATEGORIES:Agenda institucional
URL:https://www.canetdemar.cat/document.php?id=22206
END:VEVENT
END:VCALENDAR