BEGIN:VCALENDAR
VERSION:2.0
PRODID:-//Plone.org//NONSGML plone.app.event//EN
X-WR-TIMEZONE:Europe/Madrid
BEGIN:VEVENT
SUMMARY:Reunió amb el regidor Pere Xirau
DTSTART;TZID=Europe/Madrid;VALUE=DATE-TIME:20211229T103000
DTEND;TZID=Europe/Madrid;VALUE=DATE-TIME:20211229T113000
DTSTAMP;VALUE=DATE-TIME:20260424T071710Z
UID:3b6a8fc94eb4062d44c4a1dcc6756d41
CREATED;VALUE=DATE-TIME:20211229T000000Z
CATEGORIES:Agenda institucional
URL:https://www.canetdemar.cat/document.php?id=22204
END:VEVENT
END:VCALENDAR