BEGIN:VCALENDAR
VERSION:2.0
PRODID:-//Plone.org//NONSGML plone.app.event//EN
X-WR-TIMEZONE:Europe/Madrid
BEGIN:VEVENT
SUMMARY:Reunió amb el regidor Pere Xirau
DTSTART;TZID=Europe/Madrid;VALUE=DATE-TIME:20211222T103000
DTEND;TZID=Europe/Madrid;VALUE=DATE-TIME:20211222T113000
DTSTAMP;VALUE=DATE-TIME:20260425T010257Z
UID:10e7582d6dab2b956c6070096f3c9e59
CREATED;VALUE=DATE-TIME:20211222T000000Z
CATEGORIES:Agenda institucional
URL:https://www.canetdemar.cat/document.php?id=22203
END:VEVENT
END:VCALENDAR