BEGIN:VCALENDAR
VERSION:2.0
PRODID:-//Plone.org//NONSGML plone.app.event//EN
X-WR-TIMEZONE:Europe/Madrid
BEGIN:VEVENT
SUMMARY:Reunió amb el regidor Pere Xirau
DTSTART;TZID=Europe/Madrid;VALUE=DATE-TIME:20211215T103000
DTEND;TZID=Europe/Madrid;VALUE=DATE-TIME:20211215T113000
DTSTAMP;VALUE=DATE-TIME:20260423T133040Z
UID:0fde5b38f0515a3482981878b5d0d708
CREATED;VALUE=DATE-TIME:20211215T000000Z
CATEGORIES:Agenda institucional
URL:https://www.canetdemar.cat/document.php?id=22202
END:VEVENT
END:VCALENDAR