BEGIN:VCALENDAR
VERSION:2.0
PRODID:-//Plone.org//NONSGML plone.app.event//EN
X-WR-TIMEZONE:Europe/Madrid
BEGIN:VEVENT
SUMMARY:Reunió de coordinació de l'Àrea de Seguretat Ciutadana
DTSTART;TZID=Europe/Madrid;VALUE=DATE-TIME:20211229T090000
DTEND;TZID=Europe/Madrid;VALUE=DATE-TIME:20211229T100000
DTSTAMP;VALUE=DATE-TIME:20260423T220525Z
UID:d1a8f37f5cca8e38edec5ad62bc88a4d
CREATED;VALUE=DATE-TIME:20211229T000000Z
CATEGORIES:Agenda institucional
LOCATION:Comissaria de policia
URL:https://www.canetdemar.cat/document.php?id=22200
END:VEVENT
END:VCALENDAR