BEGIN:VCALENDAR
VERSION:2.0
PRODID:-//Plone.org//NONSGML plone.app.event//EN
X-WR-TIMEZONE:Europe/Madrid
BEGIN:VEVENT
SUMMARY:Teatre: F P A M
DTSTART;TZID=Europe/Madrid;VALUE=DATE-TIME:20030308T213000
DTEND;TZID=Europe/Madrid;VALUE=DATE-TIME:20030308T223000
DTSTAMP;VALUE=DATE-TIME:20260423T045326Z
UID:0295df3c3f5da9aa44ac29fb68ab2189
CREATED;VALUE=DATE-TIME:20030308T000000Z
DESCRIPTION:Dia Internacional de la Dona
URL:https://www.canetdemar.cat/document.php?id=222
END:VEVENT
END:VCALENDAR