BEGIN:VCALENDAR
VERSION:2.0
PRODID:-//Plone.org//NONSGML plone.app.event//EN
X-WR-TIMEZONE:Europe/Madrid
BEGIN:VEVENT
SUMMARY:Storytelling by Kids&Us Canet
DTSTART;TZID=Europe/Madrid;VALUE=DATE-TIME:20211228T110000
DTEND;TZID=Europe/Madrid;VALUE=DATE-TIME:20211228T120000
DTSTAMP;VALUE=DATE-TIME:20260423T150816Z
UID:a36555f9b9c0f3e3ad8662461e7ae547
CREATED;VALUE=DATE-TIME:20211228T000000Z
CATEGORIES:Infantils
LOCATION:La Masoveria
ORGANIZER:Kids&Us i Àrea de Festes
DESCRIPTION:Festes de Nadal
URL:https://www.canetdemar.cat/document.php?id=22192
END:VEVENT
END:VCALENDAR