BEGIN:VCALENDAR
VERSION:2.0
PRODID:-//Plone.org//NONSGML plone.app.event//EN
X-WR-TIMEZONE:Europe/Madrid
BEGIN:VEVENT
SUMMARY:VIII Marxa popular
DTSTART;TZID=Europe/Madrid;VALUE=DATE-TIME:20060514T080000
DTEND;TZID=Europe/Madrid;VALUE=DATE-TIME:20060514T090000
DTSTAMP;VALUE=DATE-TIME:20260426T050810Z
UID:572d6e4a770267be2680a61ff8e90a9d
CREATED;VALUE=DATE-TIME:20060514T000000Z
URL:https://www.canetdemar.cat/document.php?id=2215
END:VEVENT
END:VCALENDAR