BEGIN:VCALENDAR
VERSION:2.0
PRODID:-//Plone.org//NONSGML plone.app.event//EN
X-WR-TIMEZONE:Europe/Madrid
BEGIN:VEVENT
SUMMARY:Exposició col·lectiva i tallers
DTSTART;TZID=Europe/Madrid;VALUE=DATE-TIME:20211126T183000
DTEND;TZID=Europe/Madrid;VALUE=DATE-TIME:20211126T193000
DTSTAMP;VALUE=DATE-TIME:20260425T043233Z
UID:95319f9602f2d0d456c1fe1aed9f1db6
CREATED;VALUE=DATE-TIME:20211126T000000Z
LOCATION:Carrer Caldeta 20
ORGANIZER:Artterapia
COMMENT:Durada: de 18.30 a 20.30 hores
DESCRIPTION:A càrrec de Kathia Adsuar
URL:https://www.canetdemar.cat/document.php?id=22119
END:VEVENT
END:VCALENDAR