BEGIN:VCALENDAR
VERSION:2.0
PRODID:-//Plone.org//NONSGML plone.app.event//EN
X-WR-TIMEZONE:Europe/Madrid
BEGIN:VEVENT
SUMMARY:Il·luminació de la Biblioteca i La Masoveria - actes 25N
DTSTART;TZID=Europe/Madrid;VALUE=DATE-TIME:20211128T000000
DTEND;TZID=Europe/Madrid;VALUE=DATE-TIME:20211128T010000
DTSTAMP;VALUE=DATE-TIME:20260423T071209Z
UID:275a6aeaf2133db1856d7b75a647ce66
CREATED;VALUE=DATE-TIME:20211124T000000Z
COMMENT:Durada: del 24 al 28 de novembre de 2021
URL:https://www.canetdemar.cat/document.php?id=22117
END:VEVENT
END:VCALENDAR