BEGIN:VCALENDAR
VERSION:2.0
PRODID:-//Plone.org//NONSGML plone.app.event//EN
X-WR-TIMEZONE:Europe/Madrid
BEGIN:VEVENT
SUMMARY:Gran Recapte d'aliments
DTSTART;TZID=Europe/Madrid;VALUE=DATE-TIME:20211219T000000
DTEND;TZID=Europe/Madrid;VALUE=DATE-TIME:20211219T010000
DTSTAMP;VALUE=DATE-TIME:20260421T224026Z
UID:f7c93ef3c3f271cefcf2f7768eb125f9
CREATED;VALUE=DATE-TIME:20211219T000000Z
ORGANIZER:Banc dels aliments de Catalunya
COMMENT:Durada: 19 i 20 de desembre de 2021
URL:https://www.canetdemar.cat/document.php?id=22100
END:VEVENT
END:VCALENDAR