BEGIN:VCALENDAR
VERSION:2.0
PRODID:-//Plone.org//NONSGML plone.app.event//EN
X-WR-TIMEZONE:Europe/Madrid
BEGIN:VEVENT
SUMMARY:L'hora del conte
DTSTART;TZID=Europe/Madrid;VALUE=DATE-TIME:20030308T120000
DTEND;TZID=Europe/Madrid;VALUE=DATE-TIME:20030308T130000
DTSTAMP;VALUE=DATE-TIME:20260425T015248Z
UID:7a87dc0b6b9febdd33172b649c9045a9
CREATED;VALUE=DATE-TIME:20030308T000000Z
DESCRIPTION:A càrrec dels nens i nenes de Canet
URL:https://www.canetdemar.cat/document.php?id=221
END:VEVENT
END:VCALENDAR