BEGIN:VCALENDAR
VERSION:2.0
PRODID:-//Plone.org//NONSGML plone.app.event//EN
X-WR-TIMEZONE:Europe/Madrid
BEGIN:VEVENT
SUMMARY:Presentació Temàtica Fira Modernista 2022
DTSTART;TZID=Europe/Madrid;VALUE=DATE-TIME:20211130T153000
DTEND;TZID=Europe/Madrid;VALUE=DATE-TIME:20211130T163000
DTSTAMP;VALUE=DATE-TIME:20260423T204820Z
UID:5421479049605553b3f627d156145b98
CREATED;VALUE=DATE-TIME:20211130T000000Z
CATEGORIES:Agenda institucional
LOCATION:Casa Museu Lluís Domènech i Montaner - Can Rocosa
URL:https://www.canetdemar.cat/document.php?id=22088
END:VEVENT
END:VCALENDAR