BEGIN:VCALENDAR
VERSION:2.0
PRODID:-//Plone.org//NONSGML plone.app.event//EN
X-WR-TIMEZONE:Europe/Madrid
BEGIN:VEVENT
SUMMARY:Assistència al Concert de música de l'Arxiu
DTSTART;TZID=Europe/Madrid;VALUE=DATE-TIME:20211128T190000
DTEND;TZID=Europe/Madrid;VALUE=DATE-TIME:20211128T200000
DTSTAMP;VALUE=DATE-TIME:20260423T120743Z
UID:016576924d80d43295820e1ae7878e70
CREATED;VALUE=DATE-TIME:20211128T000000Z
CATEGORIES:Agenda institucional
LOCATION:Parròquia de Sant Pere i Sant Pau
URL:https://www.canetdemar.cat/document.php?id=22086
END:VEVENT
END:VCALENDAR