BEGIN:VCALENDAR
VERSION:2.0
PRODID:-//Plone.org//NONSGML plone.app.event//EN
X-WR-TIMEZONE:Europe/Madrid
BEGIN:VEVENT
SUMMARY:Assistència Acte PIMEC Maresme
DTSTART;TZID=Europe/Madrid;VALUE=DATE-TIME:20211125T180000
DTEND;TZID=Europe/Madrid;VALUE=DATE-TIME:20211125T190000
DTSTAMP;VALUE=DATE-TIME:20260422T221919Z
UID:5887f994337c38fca4b1a46e6e795776
CREATED;VALUE=DATE-TIME:20211125T000000Z
CATEGORIES:Agenda institucional
LOCATION:Auditori del TecnoCampus de Mataró
URL:https://www.canetdemar.cat/document.php?id=22084
END:VEVENT
END:VCALENDAR