BEGIN:VCALENDAR
VERSION:2.0
PRODID:-//Plone.org//NONSGML plone.app.event//EN
X-WR-TIMEZONE:Europe/Madrid
BEGIN:VEVENT
SUMMARY:Reunió amb les àrees de Secretaria i Serveis Tècnics
DTSTART;TZID=Europe/Madrid;VALUE=DATE-TIME:20211109T110000
DTEND;TZID=Europe/Madrid;VALUE=DATE-TIME:20211109T120000
DTSTAMP;VALUE=DATE-TIME:20260422T204023Z
UID:f1a14f20dbf11c25f12b69c68a9b52be
CREATED;VALUE=DATE-TIME:20211109T000000Z
CATEGORIES:Agenda institucional
URL:https://www.canetdemar.cat/document.php?id=22081
END:VEVENT
END:VCALENDAR