BEGIN:VCALENDAR
VERSION:2.0
PRODID:-//Plone.org//NONSGML plone.app.event//EN
X-WR-TIMEZONE:Europe/Madrid
BEGIN:VEVENT
SUMMARY:Reunió amb l'Àrea de Secretaria
DTSTART;TZID=Europe/Madrid;VALUE=DATE-TIME:20211105T103000
DTEND;TZID=Europe/Madrid;VALUE=DATE-TIME:20211105T113000
DTSTAMP;VALUE=DATE-TIME:20260424T212302Z
UID:f95e46b60983670a5643236921adf7b1
CREATED;VALUE=DATE-TIME:20211105T000000Z
CATEGORIES:Agenda institucional
URL:https://www.canetdemar.cat/document.php?id=22074
END:VEVENT
END:VCALENDAR