BEGIN:VCALENDAR
VERSION:2.0
PRODID:-//Plone.org//NONSGML plone.app.event//EN
X-WR-TIMEZONE:Europe/Madrid
BEGIN:VEVENT
SUMMARY:Junta de Govern Local
DTSTART;TZID=Europe/Madrid;VALUE=DATE-TIME:20211104T170000
DTEND;TZID=Europe/Madrid;VALUE=DATE-TIME:20211104T180000
DTSTAMP;VALUE=DATE-TIME:20260425T223750Z
UID:e28632e692777a410aca1e5fbc726529
CREATED;VALUE=DATE-TIME:20211104T000000Z
CATEGORIES:Agenda institucional
URL:https://www.canetdemar.cat/document.php?id=22069
END:VEVENT
END:VCALENDAR