BEGIN:VCALENDAR
VERSION:2.0
PRODID:-//Plone.org//NONSGML plone.app.event//EN
X-WR-TIMEZONE:Europe/Madrid
BEGIN:VEVENT
SUMMARY:Reunió de seguiment amb l'Àrea de Brigada d'Obres i Serveis
DTSTART;TZID=Europe/Madrid;VALUE=DATE-TIME:20211125T120000
DTEND;TZID=Europe/Madrid;VALUE=DATE-TIME:20211125T130000
DTSTAMP;VALUE=DATE-TIME:20260423T104046Z
UID:0b4d108b762bc573bb132f03d3d429f6
CREATED;VALUE=DATE-TIME:20211125T000000Z
CATEGORIES:Agenda institucional
LOCATION:Nau de la Brigada
URL:https://www.canetdemar.cat/document.php?id=22068
END:VEVENT
END:VCALENDAR