BEGIN:VCALENDAR
VERSION:2.0
PRODID:-//Plone.org//NONSGML plone.app.event//EN
X-WR-TIMEZONE:Europe/Madrid
BEGIN:VEVENT
SUMMARY:Reunió de seguiment amb l'Àrea de Brigada d'Obres i Serveis
DTSTART;TZID=Europe/Madrid;VALUE=DATE-TIME:20211118T120000
DTEND;TZID=Europe/Madrid;VALUE=DATE-TIME:20211118T130000
DTSTAMP;VALUE=DATE-TIME:20260423T203517Z
UID:411af2e5cfdfaf8052e86a366058cb03
CREATED;VALUE=DATE-TIME:20211118T000000Z
CATEGORIES:Agenda institucional
LOCATION:Nau de la Brigada
URL:https://www.canetdemar.cat/document.php?id=22067
END:VEVENT
END:VCALENDAR