BEGIN:VCALENDAR
VERSION:2.0
PRODID:-//Plone.org//NONSGML plone.app.event//EN
X-WR-TIMEZONE:Europe/Madrid
BEGIN:VEVENT
SUMMARY:Reunió de seguiment amb l'Àrea de Brigada d'Obres i Serveis
DTSTART;TZID=Europe/Madrid;VALUE=DATE-TIME:20211104T120000
DTEND;TZID=Europe/Madrid;VALUE=DATE-TIME:20211104T130000
DTSTAMP;VALUE=DATE-TIME:20260424T230330Z
UID:6dd6fe49c2ba4ce365b3cc6d2c49e9ea
CREATED;VALUE=DATE-TIME:20211104T000000Z
CATEGORIES:Agenda institucional
LOCATION:Nau de la Brigada
URL:https://www.canetdemar.cat/document.php?id=22065
END:VEVENT
END:VCALENDAR