BEGIN:VCALENDAR
VERSION:2.0
PRODID:-//Plone.org//NONSGML plone.app.event//EN
X-WR-TIMEZONE:Europe/Madrid
BEGIN:VEVENT
SUMMARY:Reunió amb la Tècnica de l'Àrea de Cultura
DTSTART;TZID=Europe/Madrid;VALUE=DATE-TIME:20211104T090000
DTEND;TZID=Europe/Madrid;VALUE=DATE-TIME:20211104T100000
DTSTAMP;VALUE=DATE-TIME:20260424T023702Z
UID:9e36b0899c5f7527ac125c65d4afcef5
CREATED;VALUE=DATE-TIME:20211104T000000Z
CATEGORIES:Agenda institucional
LOCATION:Despatx d'Alcaldia
URL:https://www.canetdemar.cat/document.php?id=22064
END:VEVENT
END:VCALENDAR