BEGIN:VCALENDAR
VERSION:2.0
PRODID:-//Plone.org//NONSGML plone.app.event//EN
X-WR-TIMEZONE:Europe/Madrid
BEGIN:VEVENT
SUMMARY:Reunió de seguiment amb l'Àrea de Jardineria
DTSTART;TZID=Europe/Madrid;VALUE=DATE-TIME:20211103T130000
DTEND;TZID=Europe/Madrid;VALUE=DATE-TIME:20211103T140000
DTSTAMP;VALUE=DATE-TIME:20260425T223129Z
UID:476d71878ec0507e6a0191b638babab4
CREATED;VALUE=DATE-TIME:20211103T000000Z
CATEGORIES:Agenda institucional
URL:https://www.canetdemar.cat/document.php?id=22060
END:VEVENT
END:VCALENDAR