BEGIN:VCALENDAR
VERSION:2.0
PRODID:-//Plone.org//NONSGML plone.app.event//EN
X-WR-TIMEZONE:Europe/Madrid
BEGIN:VEVENT
SUMMARY:Reunió de coordinació interna de l'Ajuntament
DTSTART;TZID=Europe/Madrid;VALUE=DATE-TIME:20211110T110000
DTEND;TZID=Europe/Madrid;VALUE=DATE-TIME:20211110T120000
DTSTAMP;VALUE=DATE-TIME:20260423T190234Z
UID:e938cff4db29aca053cdae073f712f17
CREATED;VALUE=DATE-TIME:20211110T000000Z
CATEGORIES:Agenda institucional
URL:https://www.canetdemar.cat/document.php?id=22057
END:VEVENT
END:VCALENDAR