BEGIN:VCALENDAR
VERSION:2.0
PRODID:-//Plone.org//NONSGML plone.app.event//EN
X-WR-TIMEZONE:Europe/Madrid
BEGIN:VEVENT
SUMMARY:Reunió de coordinació de l'Àrea de Seguretat Ciutadana
DTSTART;TZID=Europe/Madrid;VALUE=DATE-TIME:20211110T090000
DTEND;TZID=Europe/Madrid;VALUE=DATE-TIME:20211110T100000
DTSTAMP;VALUE=DATE-TIME:20260425T004613Z
UID:3c0eae4f96056afaa50e3a32ff39ba0a
CREATED;VALUE=DATE-TIME:20211110T000000Z
CATEGORIES:Agenda institucional
LOCATION:Comissaria de policia
URL:https://www.canetdemar.cat/document.php?id=22052
END:VEVENT
END:VCALENDAR