BEGIN:VCALENDAR
VERSION:2.0
PRODID:-//Plone.org//NONSGML plone.app.event//EN
X-WR-TIMEZONE:Europe/Madrid
BEGIN:VEVENT
SUMMARY:Reunió RLT - Policia Local
DTSTART;TZID=Europe/Madrid;VALUE=DATE-TIME:20211026T120000
DTEND;TZID=Europe/Madrid;VALUE=DATE-TIME:20211026T130000
DTSTAMP;VALUE=DATE-TIME:20260425T222205Z
UID:f5b51d065e38a4cf15536ec7e058d690
CREATED;VALUE=DATE-TIME:20211026T000000Z
CATEGORIES:Agenda institucional
LOCATION:Sala annexa Alcaldia
URL:https://www.canetdemar.cat/document.php?id=22019
END:VEVENT
END:VCALENDAR