BEGIN:VCALENDAR
VERSION:2.0
PRODID:-//Plone.org//NONSGML plone.app.event//EN
X-WR-TIMEZONE:Europe/Madrid
BEGIN:VEVENT
SUMMARY:Reunió RLT - Alcaldia
DTSTART;TZID=Europe/Madrid;VALUE=DATE-TIME:20211026T113000
DTEND;TZID=Europe/Madrid;VALUE=DATE-TIME:20211026T123000
DTSTAMP;VALUE=DATE-TIME:20260426T044516Z
UID:47f71e5ed944d57fefbc05e5dfdf8d9a
CREATED;VALUE=DATE-TIME:20211026T000000Z
CATEGORIES:Agenda institucional
LOCATION:Sala annexa Alcaldia
URL:https://www.canetdemar.cat/document.php?id=22018
END:VEVENT
END:VCALENDAR