BEGIN:VCALENDAR
VERSION:2.0
PRODID:-//Plone.org//NONSGML plone.app.event//EN
X-WR-TIMEZONE:Europe/Madrid
BEGIN:VEVENT
SUMMARY:Presentació de l'estudi de senyalització municipal
DTSTART;TZID=Europe/Madrid;VALUE=DATE-TIME:20211026T103000
DTEND;TZID=Europe/Madrid;VALUE=DATE-TIME:20211026T113000
DTSTAMP;VALUE=DATE-TIME:20260425T204810Z
UID:eeed9b98b8bd7e79929ddd4c9d2921f9
CREATED;VALUE=DATE-TIME:20211026T000000Z
CATEGORIES:Agenda institucional
LOCATION:Sala annexa Alcaldia
URL:https://www.canetdemar.cat/document.php?id=22017
END:VEVENT
END:VCALENDAR