BEGIN:VCALENDAR
VERSION:2.0
PRODID:-//Plone.org//NONSGML plone.app.event//EN
X-WR-TIMEZONE:Europe/Madrid
BEGIN:VEVENT
SUMMARY:Vídeo conferència: La situació de la dona en conflictes armats
DTSTART;TZID=Europe/Madrid;VALUE=DATE-TIME:20030308T180000
DTEND;TZID=Europe/Madrid;VALUE=DATE-TIME:20030308T190000
DTSTAMP;VALUE=DATE-TIME:20260425T155156Z
UID:965274a406b82a477c88cdddff92bedd
CREATED;VALUE=DATE-TIME:20030308T000000Z
DESCRIPTION:Actes del Dia Internacional de la Dona
URL:https://www.canetdemar.cat/document.php?id=220
END:VEVENT
END:VCALENDAR