BEGIN:VCALENDAR
VERSION:2.0
PRODID:-//Plone.org//NONSGML plone.app.event//EN
X-WR-TIMEZONE:Europe/Madrid
BEGIN:VEVENT
SUMMARY:Reunió de seguiment amb l'Àrea de Brigada d'Obres i Serveis
DTSTART;TZID=Europe/Madrid;VALUE=DATE-TIME:20211021T120000
DTEND;TZID=Europe/Madrid;VALUE=DATE-TIME:20211021T130000
DTSTAMP;VALUE=DATE-TIME:20260425T022232Z
UID:719d81a158371b0baa8d8233d70bd745
CREATED;VALUE=DATE-TIME:20211021T000000Z
CATEGORIES:Agenda institucional
LOCATION:Nau de la Brigada
URL:https://www.canetdemar.cat/document.php?id=21992
END:VEVENT
END:VCALENDAR