BEGIN:VCALENDAR
VERSION:2.0
PRODID:-//Plone.org//NONSGML plone.app.event//EN
X-WR-TIMEZONE:Europe/Madrid
BEGIN:VEVENT
SUMMARY:Reunió de coordinació interna de l'Ajuntament
DTSTART;TZID=Europe/Madrid;VALUE=DATE-TIME:20211006T113000
DTEND;TZID=Europe/Madrid;VALUE=DATE-TIME:20211006T123000
DTSTAMP;VALUE=DATE-TIME:20260423T071043Z
UID:5951d193d6ed50aaf94222c586e62ae7
CREATED;VALUE=DATE-TIME:20211006T000000Z
CATEGORIES:Agenda institucional
URL:https://www.canetdemar.cat/document.php?id=21969
END:VEVENT
END:VCALENDAR