BEGIN:VCALENDAR
VERSION:2.0
PRODID:-//Plone.org//NONSGML plone.app.event//EN
X-WR-TIMEZONE:Europe/Madrid
BEGIN:VEVENT
SUMMARY:Entrevista Espai Alcaldia
DTSTART;TZID=Europe/Madrid;VALUE=DATE-TIME:20211006T110000
DTEND;TZID=Europe/Madrid;VALUE=DATE-TIME:20211006T120000
DTSTAMP;VALUE=DATE-TIME:20260423T222053Z
UID:9d38de038ebc83de0633489a4f7856b8
CREATED;VALUE=DATE-TIME:20211006T000000Z
CATEGORIES:Agenda institucional
LOCATION:Estudis de Ràdio Canet
URL:https://www.canetdemar.cat/document.php?id=21968
END:VEVENT
END:VCALENDAR