BEGIN:VCALENDAR
VERSION:2.0
PRODID:-//Plone.org//NONSGML plone.app.event//EN
X-WR-TIMEZONE:Europe/Madrid
BEGIN:VEVENT
SUMMARY:Reunió de coordinació de l'Àrea de Seguretat Ciutadana
DTSTART;TZID=Europe/Madrid;VALUE=DATE-TIME:20211027T090000
DTEND;TZID=Europe/Madrid;VALUE=DATE-TIME:20211027T100000
DTSTAMP;VALUE=DATE-TIME:20260423T103240Z
UID:09f98b71cf52ba2e4716a86d7ca95c0f
CREATED;VALUE=DATE-TIME:20211027T000000Z
CATEGORIES:Agenda institucional
LOCATION:Comissaria de policia
URL:https://www.canetdemar.cat/document.php?id=21965
END:VEVENT
END:VCALENDAR