BEGIN:VCALENDAR
VERSION:2.0
PRODID:-//Plone.org//NONSGML plone.app.event//EN
X-WR-TIMEZONE:Europe/Madrid
BEGIN:VEVENT
SUMMARY:Reunió de coordinació de l'Àrea de Seguretat Ciutadana
DTSTART;TZID=Europe/Madrid;VALUE=DATE-TIME:20211006T090000
DTEND;TZID=Europe/Madrid;VALUE=DATE-TIME:20211006T100000
DTSTAMP;VALUE=DATE-TIME:20260423T172107Z
UID:bf94f09e1b5b57c6031bb0f418c0b581
CREATED;VALUE=DATE-TIME:20211006T000000Z
CATEGORIES:Agenda institucional
LOCATION:Comissaria de policia
URL:https://www.canetdemar.cat/document.php?id=21963
END:VEVENT
END:VCALENDAR