BEGIN:VCALENDAR
VERSION:2.0
PRODID:-//Plone.org//NONSGML plone.app.event//EN
X-WR-TIMEZONE:Europe/Madrid
BEGIN:VEVENT
SUMMARY:Reunió amb un empresari del municipi
DTSTART;TZID=Europe/Madrid;VALUE=DATE-TIME:20211004T123000
DTEND;TZID=Europe/Madrid;VALUE=DATE-TIME:20211004T133000
DTSTAMP;VALUE=DATE-TIME:20260425T143022Z
UID:c5d33a5217f0e5a1b048e38bc88e7af8
CREATED;VALUE=DATE-TIME:20211004T000000Z
CATEGORIES:Agenda institucional
LOCATION:Sala annexa Alcaldia
URL:https://www.canetdemar.cat/document.php?id=21959
END:VEVENT
END:VCALENDAR