BEGIN:VCALENDAR
VERSION:2.0
PRODID:-//Plone.org//NONSGML plone.app.event//EN
X-WR-TIMEZONE:Europe/Madrid
BEGIN:VEVENT
SUMMARY:Entrevista Ràdio Canet
DTSTART;TZID=Europe/Madrid;VALUE=DATE-TIME:20211001T100000
DTEND;TZID=Europe/Madrid;VALUE=DATE-TIME:20211001T110000
DTSTAMP;VALUE=DATE-TIME:20260424T040158Z
UID:50df64991e890b1dfb9ed3b2815922f1
CREATED;VALUE=DATE-TIME:20211001T000000Z
CATEGORIES:Agenda institucional
LOCATION:Estudis de Ràdio Canet
URL:https://www.canetdemar.cat/document.php?id=21952
END:VEVENT
END:VCALENDAR