BEGIN:VCALENDAR
VERSION:2.0
PRODID:-//Plone.org//NONSGML plone.app.event//EN
X-WR-TIMEZONE:Europe/Madrid
BEGIN:VEVENT
SUMMARY:Preparar Ple Municipal
DTSTART;TZID=Europe/Madrid;VALUE=DATE-TIME:20210930T183000
DTEND;TZID=Europe/Madrid;VALUE=DATE-TIME:20210930T193000
DTSTAMP;VALUE=DATE-TIME:20260425T190524Z
UID:f631a33ce6bb22aad89a1c08b3976988
CREATED;VALUE=DATE-TIME:20210930T000000Z
CATEGORIES:Agenda institucional
URL:https://www.canetdemar.cat/document.php?id=21951
END:VEVENT
END:VCALENDAR