BEGIN:VCALENDAR
VERSION:2.0
PRODID:-//Plone.org//NONSGML plone.app.event//EN
X-WR-TIMEZONE:Europe/Madrid
BEGIN:VEVENT
SUMMARY:Reunió amb restauradores i restauradors del municipi
DTSTART;TZID=Europe/Madrid;VALUE=DATE-TIME:20210928T160000
DTEND;TZID=Europe/Madrid;VALUE=DATE-TIME:20210928T170000
DTSTAMP;VALUE=DATE-TIME:20260424T193625Z
UID:3af4ffd54a9f77c4b8abce5447a997fa
CREATED;VALUE=DATE-TIME:20210928T000000Z
CATEGORIES:Agenda institucional
LOCATION:Sala annexa Alcaldia
URL:https://www.canetdemar.cat/document.php?id=21945
END:VEVENT
END:VCALENDAR