BEGIN:VCALENDAR
VERSION:2.0
PRODID:-//Plone.org//NONSGML plone.app.event//EN
X-WR-TIMEZONE:Europe/Madrid
BEGIN:VEVENT
SUMMARY:Reunió de seguiment de l'Àrea de Brigada d'Obres i Serveis
DTSTART;TZID=Europe/Madrid;VALUE=DATE-TIME:20210928T120000
DTEND;TZID=Europe/Madrid;VALUE=DATE-TIME:20210928T130000
DTSTAMP;VALUE=DATE-TIME:20260424T193556Z
UID:9a593d747d92d634f4fd3d010c402684
CREATED;VALUE=DATE-TIME:20210928T000000Z
CATEGORIES:Agenda institucional
LOCATION:Nau de la Brigada
URL:https://www.canetdemar.cat/document.php?id=21944
END:VEVENT
END:VCALENDAR