BEGIN:VCALENDAR
VERSION:2.0
PRODID:-//Plone.org//NONSGML plone.app.event//EN
X-WR-TIMEZONE:Europe/Madrid
BEGIN:VEVENT
SUMMARY:Benvinguda nova treballadora de l'Ajuntament
DTSTART;TZID=Europe/Madrid;VALUE=DATE-TIME:20210928T103000
DTEND;TZID=Europe/Madrid;VALUE=DATE-TIME:20210928T113000
DTSTAMP;VALUE=DATE-TIME:20260423T071818Z
UID:70087ccbdd39d39e487ddbb083a238b4
CREATED;VALUE=DATE-TIME:20210928T000000Z
CATEGORIES:Agenda institucional
LOCATION:Sala annexa Alcaldia
URL:https://www.canetdemar.cat/document.php?id=21942
END:VEVENT
END:VCALENDAR