BEGIN:VCALENDAR
VERSION:2.0
PRODID:-//Plone.org//NONSGML plone.app.event//EN
X-WR-TIMEZONE:Europe/Madrid
BEGIN:VEVENT
SUMMARY:Reunió amb l'Àrea d'Alcaldia
DTSTART;TZID=Europe/Madrid;VALUE=DATE-TIME:20210928T100000
DTEND;TZID=Europe/Madrid;VALUE=DATE-TIME:20210928T110000
DTSTAMP;VALUE=DATE-TIME:20260424T144422Z
UID:02660497b57ba5142ddd53b66fe29f7f
CREATED;VALUE=DATE-TIME:20210928T000000Z
CATEGORIES:Agenda institucional
LOCATION:Sala annexa Alcaldia
URL:https://www.canetdemar.cat/document.php?id=21941
END:VEVENT
END:VCALENDAR