BEGIN:VCALENDAR
VERSION:2.0
PRODID:-//Plone.org//NONSGML plone.app.event//EN
X-WR-TIMEZONE:Europe/Madrid
BEGIN:VEVENT
SUMMARY:Reunió reglament TMC
DTSTART;TZID=Europe/Madrid;VALUE=DATE-TIME:20210927T190000
DTEND;TZID=Europe/Madrid;VALUE=DATE-TIME:20210927T200000
DTSTAMP;VALUE=DATE-TIME:20260426T050724Z
UID:4471f7b6fdca66521588896c0bc594dd
CREATED;VALUE=DATE-TIME:20210927T000000Z
CATEGORIES:Agenda institucional
LOCATION:Sala annexa Alcaldia
URL:https://www.canetdemar.cat/document.php?id=21940
END:VEVENT
END:VCALENDAR