BEGIN:VCALENDAR
VERSION:2.0
PRODID:-//Plone.org//NONSGML plone.app.event//EN
X-WR-TIMEZONE:Europe/Madrid
BEGIN:VEVENT
SUMMARY:Reunió Relació de Llocs de Treball
DTSTART;TZID=Europe/Madrid;VALUE=DATE-TIME:20210927T180000
DTEND;TZID=Europe/Madrid;VALUE=DATE-TIME:20210927T190000
DTSTAMP;VALUE=DATE-TIME:20260424T202600Z
UID:f3e13a9748f964a7aab1fed9e6758453
CREATED;VALUE=DATE-TIME:20210927T000000Z
CATEGORIES:Agenda institucional
LOCATION:Sala annexa Alcaldia
URL:https://www.canetdemar.cat/document.php?id=21939
END:VEVENT
END:VCALENDAR